BEGIN:VCALENDAR
VERSION:2.0
PRODID:-//Gudina Tumsa Foundation (GTF) - ECPv6.2.2//NONSGML v1.0//EN
CALSCALE:GREGORIAN
METHOD:PUBLISH
X-WR-CALNAME:Gudina Tumsa Foundation (GTF)
X-ORIGINAL-URL:https://gudinatumsafoundation.org
X-WR-CALDESC:Events for Gudina Tumsa Foundation (GTF)
REFRESH-INTERVAL;VALUE=DURATION:PT1H
X-Robots-Tag:noindex
X-PUBLISHED-TTL:PT1H
BEGIN:VTIMEZONE
TZID:UTC
BEGIN:STANDARD
TZOFFSETFROM:+0000
TZOFFSETTO:+0000
TZNAME:UTC
DTSTART:20230101T000000
END:STANDARD
END:VTIMEZONE
BEGIN:VEVENT
DTSTART;VALUE=DATE:20230406
DTEND;VALUE=DATE:20230409
DTSTAMP:20260422T225828
CREATED:20230308T163837Z
LAST-MODIFIED:20230308T164244Z
UID:829-1680739200-1680998399@gudinatumsafoundation.org
SUMMARY:30th Anniversary
DESCRIPTION:
URL:https://gudinatumsafoundation.org/event/30th-anniversary/
LOCATION:GTF 30th Anniversary\, 📍Friendship Park\, Addis Ababa\, Addis Ababa\, Ethiopia
ORGANIZER;CN="Gudina Tumsa Foundation":MAILTO:info@gudinatumsafoundation.org
END:VEVENT
END:VCALENDAR